BEGIN:VCALENDAR
VERSION:2.0
PRODID:-//Gemeinde Kolkwitz - ECPv5.16.1.1//NONSGML v1.0//EN
CALSCALE:GREGORIAN
METHOD:PUBLISH
X-WR-CALNAME:Gemeinde Kolkwitz
X-ORIGINAL-URL:https://gemeinde-kolkwitz.de
X-WR-CALDESC:Veranstaltungen für Gemeinde Kolkwitz
BEGIN:VTIMEZONE
TZID:Europe/Berlin
BEGIN:DAYLIGHT
TZOFFSETFROM:+0100
TZOFFSETTO:+0200
TZNAME:CEST
DTSTART:20210328T010000
END:DAYLIGHT
BEGIN:STANDARD
TZOFFSETFROM:+0200
TZOFFSETTO:+0100
TZNAME:CET
DTSTART:20211031T010000
END:STANDARD
END:VTIMEZONE
BEGIN:VEVENT
DTSTART;TZID=Europe/Berlin:20210918T080000
DTEND;TZID=Europe/Berlin:20210919T170000
DTSTAMP:20260420T121718
CREATED:20210107T143755Z
LAST-MODIFIED:20210107T143755Z
UID:10426-1631952000-1632070800@gemeinde-kolkwitz.de
SUMMARY:Ausstellung des Kleintierzuchtvereines Kunersdorf
DESCRIPTION:Zur Ausstellung des Kleintierzuchtvereines Kunersdorf wird am 18. und 19. September 2021 auf die Kunersdorfer Freianlage eingeladen.
URL:https://gemeinde-kolkwitz.de/event/ausstellung-des-kleintierzuchtvereines-kunersdorf/
CATEGORIES:Allgemein
ATTACH;FMTTYPE=image/jpeg:https://gemeinde-kolkwitz.de/wp-content/uploads/2020/09/logo-ktzv-kunersdorf.jpg
END:VEVENT
END:VCALENDAR