BEGIN:VCALENDAR
VERSION:2.0
PRODID:-//Gemeinde Kolkwitz - ECPv5.16.1.1//NONSGML v1.0//EN
CALSCALE:GREGORIAN
METHOD:PUBLISH
X-WR-CALNAME:Gemeinde Kolkwitz
X-ORIGINAL-URL:https://gemeinde-kolkwitz.de
X-WR-CALDESC:Veranstaltungen für Gemeinde Kolkwitz
BEGIN:VTIMEZONE
TZID:Europe/Berlin
BEGIN:DAYLIGHT
TZOFFSETFROM:+0100
TZOFFSETTO:+0200
TZNAME:CEST
DTSTART:20190331T010000
END:DAYLIGHT
BEGIN:STANDARD
TZOFFSETFROM:+0200
TZOFFSETTO:+0100
TZNAME:CET
DTSTART:20191027T010000
END:STANDARD
END:VTIMEZONE
BEGIN:VEVENT
DTSTART;TZID=Europe/Berlin:20191213T150000
DTEND;TZID=Europe/Berlin:20191213T150000
DTSTAMP:20260420T121120
CREATED:20191203T134204Z
LAST-MODIFIED:20191203T150751Z
UID:4191-1576249200-1576249200@gemeinde-kolkwitz.de
SUMMARY:Besinnliche Stunden in Papitz
DESCRIPTION:Liebe Papitzerinnen\, Liebe Papitzer \nWie in jedem Jahr lädt der Ortsbeirat zu ein paar besinnlichen Stunden in der Adventszeit ein. \nWir wollen mit Ihnen am 13.12.2019 ab 15:00 Uhr Dorfgemeinschaftshaus (alter Konsum)  zusammen kommen und bei einer Tasse Kaffee\, Weihnachtsgebäck und etwas Deftigen das vergangene Jahr ausklingen lassen. Für eine kleine kulturelle Überraschung ist natürlich auch wieder gesorgt! \nWir freuen uns auf Sie\, eine Rückmeldung ist nicht notwendig! \nDer Ortsbeirat
URL:https://gemeinde-kolkwitz.de/event/besinnliche-stunden-in-papitz/
CATEGORIES:Allgemein
ATTACH;FMTTYPE=image/jpeg:https://gemeinde-kolkwitz.de/wp-content/uploads/2019/12/IMG_6355-1-scaled.jpg
END:VEVENT
END:VCALENDAR