BEGIN:VCALENDAR
VERSION:2.0
PRODID:-//Gemeinde Kolkwitz - ECPv5.16.1.1//NONSGML v1.0//EN
CALSCALE:GREGORIAN
METHOD:PUBLISH
X-WR-CALNAME:Gemeinde Kolkwitz
X-ORIGINAL-URL:https://gemeinde-kolkwitz.de
X-WR-CALDESC:Veranstaltungen für Gemeinde Kolkwitz
BEGIN:VTIMEZONE
TZID:Europe/Berlin
BEGIN:DAYLIGHT
TZOFFSETFROM:+0100
TZOFFSETTO:+0200
TZNAME:CEST
DTSTART:20220327T010000
END:DAYLIGHT
BEGIN:STANDARD
TZOFFSETFROM:+0200
TZOFFSETTO:+0100
TZNAME:CET
DTSTART:20221030T010000
END:STANDARD
END:VTIMEZONE
BEGIN:VEVENT
DTSTART;TZID=Europe/Berlin:20221002T190000
DTEND;TZID=Europe/Berlin:20221002T190000
DTSTAMP:20260420T122545
CREATED:20220818T094626Z
LAST-MODIFIED:20220823T150752Z
UID:16485-1664737200-1664737200@gemeinde-kolkwitz.de
SUMMARY:Disko zum Oktoberfest in Kolkwitz
DESCRIPTION:Als Start zum Oktoberfest in Kolkwitz spielt ab 19 Uhr Rolands Partydisco auf der Freilichtbühne am Kolkwitzcenter auf. Um 21 Uhr gibt es eine große Feuershow. \nDer Eintritt ist frei. \nHinweis: Es gibt in diesem Jahr kein geschlossenes Festzelt. Eventuell wärmere Kleidung mitbringen.
URL:https://gemeinde-kolkwitz.de/event/disko-zum-oktoberfest-in-kolkwitz/
CATEGORIES:Allgemein
ATTACH;FMTTYPE=image/jpeg:https://gemeinde-kolkwitz.de/wp-content/uploads/2022/08/img_3617.jpg
END:VEVENT
END:VCALENDAR