BEGIN:VCALENDAR
VERSION:2.0
PRODID:-//Gemeinde Kolkwitz - ECPv5.16.1.1//NONSGML v1.0//EN
CALSCALE:GREGORIAN
METHOD:PUBLISH
X-WR-CALNAME:Gemeinde Kolkwitz
X-ORIGINAL-URL:https://gemeinde-kolkwitz.de
X-WR-CALDESC:Veranstaltungen für Gemeinde Kolkwitz
BEGIN:VTIMEZONE
TZID:Europe/Berlin
BEGIN:DAYLIGHT
TZOFFSETFROM:+0100
TZOFFSETTO:+0200
TZNAME:CEST
DTSTART:20200329T010000
END:DAYLIGHT
BEGIN:STANDARD
TZOFFSETFROM:+0200
TZOFFSETTO:+0100
TZNAME:CET
DTSTART:20201025T010000
END:STANDARD
END:VTIMEZONE
BEGIN:VEVENT
DTSTART;TZID=Europe/Berlin:20200319T190000
DTEND;TZID=Europe/Berlin:20200319T190000
DTSTAMP:20260420T103822
CREATED:20200312T093808Z
LAST-MODIFIED:20200313T113923Z
UID:6962-1584644400-1584644400@gemeinde-kolkwitz.de
SUMMARY:wegen Coronavirus abgesagt: Einwohnerversammlung in Kolkwitz
DESCRIPTION:Ein neuer Termin wird bekanntgegeben.  \n  \nSehr geehrte Einwohner\, \nhiermit möchten wir die Bürgerinnen und Bürger aus dem Ortsteil Kolkwitz zu unserer nächsten Einwohnerversammlung einladen.  Sie findet am 19.03.2020 um 19.00 Uhr im Sitzungssaal / Rathaus Kolkwitz statt. \nTagesordnung:\nRückblick 2019:\nAuswertung der Ortsbegehung vom 17.11.2019\nInformationen zu neuen Friedhofssatzung und zu den alternativen Bestattungsmöglichkeiten\nFragen\, Hinweise\, allg. Informationen\nAusblick 2020\nSelbstverständlich haben alle Vereine und Einrichtungen die Möglichkeit auf Veranstaltungen und Aktivitäten hinzuweisen. Sie erreichen mich unter der Telefonnummer: 0171-5823757 oder unter meiner Mailadresse: m.Kascheike@web.de \nMarcel Kascheike\nOrtsvorsteher Kolkwitz
URL:https://gemeinde-kolkwitz.de/event/einwohnerversammlung-in-kolkwitz/
CATEGORIES:Allgemein
END:VEVENT
END:VCALENDAR