BEGIN:VCALENDAR
VERSION:2.0
PRODID:-//Gemeinde Kolkwitz - ECPv5.16.1.1//NONSGML v1.0//EN
CALSCALE:GREGORIAN
METHOD:PUBLISH
X-WR-CALNAME:Gemeinde Kolkwitz
X-ORIGINAL-URL:https://gemeinde-kolkwitz.de
X-WR-CALDESC:Veranstaltungen für Gemeinde Kolkwitz
BEGIN:VTIMEZONE
TZID:Europe/Berlin
BEGIN:DAYLIGHT
TZOFFSETFROM:+0100
TZOFFSETTO:+0200
TZNAME:CEST
DTSTART:20220327T010000
END:DAYLIGHT
BEGIN:STANDARD
TZOFFSETFROM:+0200
TZOFFSETTO:+0100
TZNAME:CET
DTSTART:20221030T010000
END:STANDARD
END:VTIMEZONE
BEGIN:VEVENT
DTSTART;TZID=Europe/Berlin:20220622T080000
DTEND;TZID=Europe/Berlin:20220622T170000
DTSTAMP:20260420T222156
CREATED:20220622T063735Z
LAST-MODIFIED:20220622T063735Z
UID:16230-1655884800-1655917200@gemeinde-kolkwitz.de
SUMMARY:Einwohnerversammlung in Limberg
DESCRIPTION:Wir laden ein zur \nEinwohnerversammlung! \nHiermit laden wir alle Einwohnerinnen und Einwohner zur Einwohnerversammlung für den Ortsteil Limberg ein. \n\n August 2022; 19.00 Uhr\nGaststätte Muschick\n\nSie haben im Vorfeld die Möglichkeit Ihre Fragen auch schon vor der \nEinwohnerversammlung an den Ortsbeirat zu stellen. In der Einwohnerversammlung werden wir dazu Stellung nehmen. \nWir freuen uns auf Ihren Besuch. \nDer Ortsbeirat \nMarcel Noack & Marco Leska \nOrtsbeirat.Limberg@web.de
URL:https://gemeinde-kolkwitz.de/event/einwohnerversammlung-in-limberg/
CATEGORIES:Allgemein
ATTACH;FMTTYPE=image/png:https://gemeinde-kolkwitz.de/wp-content/uploads/2021/10/limberg.gemeindekolkwitz.png
END:VEVENT
END:VCALENDAR