BEGIN:VCALENDAR
VERSION:2.0
PRODID:-//Gemeinde Kolkwitz - ECPv5.16.1.1//NONSGML v1.0//EN
CALSCALE:GREGORIAN
METHOD:PUBLISH
X-WR-CALNAME:Gemeinde Kolkwitz
X-ORIGINAL-URL:https://gemeinde-kolkwitz.de
X-WR-CALDESC:Veranstaltungen für Gemeinde Kolkwitz
BEGIN:VTIMEZONE
TZID:Europe/Berlin
BEGIN:DAYLIGHT
TZOFFSETFROM:+0100
TZOFFSETTO:+0200
TZNAME:CEST
DTSTART:20230326T010000
END:DAYLIGHT
BEGIN:STANDARD
TZOFFSETFROM:+0200
TZOFFSETTO:+0100
TZNAME:CET
DTSTART:20231029T010000
END:STANDARD
END:VTIMEZONE
BEGIN:VEVENT
DTSTART;TZID=Europe/Berlin:20230225T130000
DTEND;TZID=Europe/Berlin:20230225T170000
DTSTAMP:20260420T121120
CREATED:20230117T102214Z
LAST-MODIFIED:20230117T102214Z
UID:17729-1677330000-1677344400@gemeinde-kolkwitz.de
SUMMARY:Fastnacht in Babow
DESCRIPTION:25.02.2022 \nUmzug von Jung und Alt \n13.00 Uhr Treff der Frauen in der Gaststätte „Zum Bergchen“ \n13.00 Uhr Treff der Männer im Dorfgemeinschaftshaus \n14.00 Uhr Ausmarsch mit den „Spreewälder Blasmusikanten“ \n20.00 Uhr Tanz mit „Peter Apelt und Band“ in der Gaststätte „Zum Bergchen“ \nAnmeldungen für alle Fastnachtsteilnehmer bis 10.02.2022 an Bianka Schwarz-Born 0173/6929425 oder Thorsten Grott 0172/9189617 \nWir laden alle herzlich dazu ein und freuen uns auf eine großartige Fastnacht. \nDas Organisationsteam
URL:https://gemeinde-kolkwitz.de/event/fastnacht-in-babow/
CATEGORIES:Allgemein
ATTACH;FMTTYPE=image/png:https://gemeinde-kolkwitz.de/wp-content/uploads/2021/10/babow.gemeindekolkwitz.png
END:VEVENT
END:VCALENDAR