BEGIN:VCALENDAR
VERSION:2.0
PRODID:-//Gemeinde Kolkwitz - ECPv5.16.1.1//NONSGML v1.0//EN
CALSCALE:GREGORIAN
METHOD:PUBLISH
X-WR-CALNAME:Gemeinde Kolkwitz
X-ORIGINAL-URL:https://gemeinde-kolkwitz.de
X-WR-CALDESC:Veranstaltungen für Gemeinde Kolkwitz
BEGIN:VTIMEZONE
TZID:Europe/Berlin
BEGIN:DAYLIGHT
TZOFFSETFROM:+0100
TZOFFSETTO:+0200
TZNAME:CEST
DTSTART:20230326T010000
END:DAYLIGHT
BEGIN:STANDARD
TZOFFSETFROM:+0200
TZOFFSETTO:+0100
TZNAME:CET
DTSTART:20231029T010000
END:STANDARD
END:VTIMEZONE
BEGIN:VEVENT
DTSTART;TZID=Europe/Berlin:20230218T080000
DTEND;TZID=Europe/Berlin:20230218T080000
DTSTAMP:20260425T123500
CREATED:20230117T104009Z
LAST-MODIFIED:20230117T142358Z
UID:17737-1676707200-1676707200@gemeinde-kolkwitz.de
SUMMARY:Zampern in Eichow
DESCRIPTION:Samstag\, 18.02.2023 \n08:00 Uhr – Treff zum Zampern \nmit den „Tröbitzer Blasmusikanten“ \nStart im Dorfgemeinschaftshaus
URL:https://gemeinde-kolkwitz.de/event/fastnacht-in-eichow-3/
CATEGORIES:Allgemein
ATTACH;FMTTYPE=image/png:https://gemeinde-kolkwitz.de/wp-content/uploads/2021/10/eichow.gemeindekolkwitz.png
END:VEVENT
END:VCALENDAR