BEGIN:VCALENDAR
VERSION:2.0
PRODID:-//Gemeinde Kolkwitz - ECPv5.16.1.1//NONSGML v1.0//EN
CALSCALE:GREGORIAN
METHOD:PUBLISH
X-WR-CALNAME:Gemeinde Kolkwitz
X-ORIGINAL-URL:https://gemeinde-kolkwitz.de
X-WR-CALDESC:Veranstaltungen für Gemeinde Kolkwitz
BEGIN:VTIMEZONE
TZID:Europe/Berlin
BEGIN:DAYLIGHT
TZOFFSETFROM:+0100
TZOFFSETTO:+0200
TZNAME:CEST
DTSTART:20250330T010000
END:DAYLIGHT
BEGIN:STANDARD
TZOFFSETFROM:+0200
TZOFFSETTO:+0100
TZNAME:CET
DTSTART:20251026T010000
END:STANDARD
END:VTIMEZONE
BEGIN:VEVENT
DTSTART;TZID=Europe/Berlin:20250308T000000
DTEND;TZID=Europe/Berlin:20250308T000000
DTSTAMP:20260420T162803
CREATED:20250116T154523Z
LAST-MODIFIED:20250116T154523Z
UID:24286-1741392000-1741392000@gemeinde-kolkwitz.de
SUMMARY:Fastnacht in Zahsow
DESCRIPTION:Fastnacht Zahsow ist am 08.03.2025. Wir bitten um eine Anmeldung der Teilnahme bis zum 22.02.2025. Das ist beim Zampern und somit für alle relativ leicht realisierbar. Wir kommen sozusagen vorbei. \n  \nEuer Ortsbeirat Zahsow
URL:https://gemeinde-kolkwitz.de/event/fastnacht-in-zahsow-4/
CATEGORIES:Allgemein
ATTACH;FMTTYPE=image/jpeg:https://gemeinde-kolkwitz.de/wp-content/uploads/2024/04/fastnacht-in-zahsow-2024.jpg
END:VEVENT
END:VCALENDAR