BEGIN:VCALENDAR
VERSION:2.0
PRODID:-//Gemeinde Kolkwitz - ECPv5.16.1.1//NONSGML v1.0//EN
CALSCALE:GREGORIAN
METHOD:PUBLISH
X-WR-CALNAME:Gemeinde Kolkwitz
X-ORIGINAL-URL:https://gemeinde-kolkwitz.de
X-WR-CALDESC:Veranstaltungen für Gemeinde Kolkwitz
BEGIN:VTIMEZONE
TZID:Europe/Berlin
BEGIN:DAYLIGHT
TZOFFSETFROM:+0100
TZOFFSETTO:+0200
TZNAME:CEST
DTSTART:20240331T010000
END:DAYLIGHT
BEGIN:STANDARD
TZOFFSETFROM:+0200
TZOFFSETTO:+0100
TZNAME:CET
DTSTART:20241027T010000
END:STANDARD
END:VTIMEZONE
BEGIN:VEVENT
DTSTART;TZID=Europe/Berlin:20240928T110000
DTEND;TZID=Europe/Berlin:20240928T160000
DTSTAMP:20260423T120958
CREATED:20240813T091509Z
LAST-MODIFIED:20240813T091509Z
UID:22839-1727521200-1727539200@gemeinde-kolkwitz.de
SUMMARY:Flohmarkt in Kolkwitz
DESCRIPTION:
URL:https://gemeinde-kolkwitz.de/event/flohmarkt-in-kolkwitz/
CATEGORIES:Allgemein
ATTACH;FMTTYPE=image/jpeg:https://gemeinde-kolkwitz.de/wp-content/uploads/2024/08/whatsapp-image-2024-08-13-at-10.57.37.jpeg
END:VEVENT
END:VCALENDAR