BEGIN:VCALENDAR
VERSION:2.0
PRODID:-//Gemeinde Kolkwitz - ECPv5.16.1.1//NONSGML v1.0//EN
CALSCALE:GREGORIAN
METHOD:PUBLISH
X-WR-CALNAME:Gemeinde Kolkwitz
X-ORIGINAL-URL:https://gemeinde-kolkwitz.de
X-WR-CALDESC:Veranstaltungen für Gemeinde Kolkwitz
BEGIN:VTIMEZONE
TZID:Europe/Berlin
BEGIN:DAYLIGHT
TZOFFSETFROM:+0100
TZOFFSETTO:+0200
TZNAME:CEST
DTSTART:20210328T010000
END:DAYLIGHT
BEGIN:STANDARD
TZOFFSETFROM:+0200
TZOFFSETTO:+0100
TZNAME:CET
DTSTART:20211031T010000
END:STANDARD
END:VTIMEZONE
BEGIN:VEVENT
DTSTART;TZID=Europe/Berlin:20210829T140000
DTEND;TZID=Europe/Berlin:20210829T140000
DTSTAMP:20260425T234115
CREATED:20210622T051331Z
LAST-MODIFIED:20210622T051331Z
UID:12034-1630245600-1630245600@gemeinde-kolkwitz.de
SUMMARY:Gottesdienst in Papitz zur Einweihung der restaurierten Orgel
DESCRIPTION:Am 29. August um 14 Uhr wird in die Papitzer Kirche zum Gottesdienst anlässlich der Einweihung der restaurierten Orgel eingeladen.
URL:https://gemeinde-kolkwitz.de/event/gottesdienst-in-papitz-zur-einweihung-der-restaurierten-orgel/
CATEGORIES:Allgemein
ATTACH;FMTTYPE=image/jpeg:https://gemeinde-kolkwitz.de/wp-content/uploads/2021/06/orgel-e1624338781444.jpg
END:VEVENT
END:VCALENDAR