BEGIN:VCALENDAR
VERSION:2.0
PRODID:-//Gemeinde Kolkwitz - ECPv5.16.1.1//NONSGML v1.0//EN
CALSCALE:GREGORIAN
METHOD:PUBLISH
X-WR-CALNAME:Gemeinde Kolkwitz
X-ORIGINAL-URL:https://gemeinde-kolkwitz.de
X-WR-CALDESC:Veranstaltungen für Gemeinde Kolkwitz
BEGIN:VTIMEZONE
TZID:Europe/Berlin
BEGIN:DAYLIGHT
TZOFFSETFROM:+0100
TZOFFSETTO:+0200
TZNAME:CEST
DTSTART:20230326T010000
END:DAYLIGHT
BEGIN:STANDARD
TZOFFSETFROM:+0200
TZOFFSETTO:+0100
TZNAME:CET
DTSTART:20231029T010000
END:STANDARD
END:VTIMEZONE
BEGIN:VEVENT
DTSTART;TZID=Europe/Berlin:20230119T131100
DTEND;TZID=Europe/Berlin:20230119T131100
DTSTAMP:20260420T103720
CREATED:20230125T085826Z
LAST-MODIFIED:20230125T091413Z
UID:17849-1674133860-1674133860@gemeinde-kolkwitz.de
SUMMARY:KCC Umzug in Cottbus
DESCRIPTION:Zum “Zug der fröhlichen Leute”  am 19. Februar in Cottbus wird auch der KCC wieder für ordentlich Stimmung sorgen. Um 13:11 Uhr setzt sich der Zug in der Innenstadt in Bewegung.
URL:https://gemeinde-kolkwitz.de/event/kcc-umzug-in-cottbus/
CATEGORIES:Allgemein
ATTACH;FMTTYPE=image/png:https://gemeinde-kolkwitz.de/wp-content/uploads/2021/10/kcc_png-1.png
END:VEVENT
END:VCALENDAR