BEGIN:VCALENDAR
VERSION:2.0
PRODID:-//Gemeinde Kolkwitz - ECPv5.16.1.1//NONSGML v1.0//EN
CALSCALE:GREGORIAN
METHOD:PUBLISH
X-WR-CALNAME:Gemeinde Kolkwitz
X-ORIGINAL-URL:https://gemeinde-kolkwitz.de
X-WR-CALDESC:Veranstaltungen für Gemeinde Kolkwitz
BEGIN:VTIMEZONE
TZID:Europe/Berlin
BEGIN:DAYLIGHT
TZOFFSETFROM:+0100
TZOFFSETTO:+0200
TZNAME:CEST
DTSTART:20220327T010000
END:DAYLIGHT
BEGIN:STANDARD
TZOFFSETFROM:+0200
TZOFFSETTO:+0100
TZNAME:CET
DTSTART:20221030T010000
END:STANDARD
END:VTIMEZONE
BEGIN:VEVENT
DTSTART;TZID=Europe/Berlin:20220605T150000
DTEND;TZID=Europe/Berlin:20220605T150000
DTSTAMP:20260423T135641
CREATED:20220216T115922Z
LAST-MODIFIED:20220421T063908Z
UID:14872-1654441200-1654441200@gemeinde-kolkwitz.de
SUMMARY:Abgesagt! Konzert mit den Lindenmusikanten in Papitz
DESCRIPTION:Leider muss das Konzert der Lindenmusikanten am 05.06.2022 abgesagt werden\, da es Terminüberschneidungen bei den Musikern gab. Es wird nach einem Ersatztermin gesucht\, der dann rechtzeitig bekannt gegeben wird.
URL:https://gemeinde-kolkwitz.de/event/konzert-mit-den-lindenmusikanten-in-papitz/
CATEGORIES:Allgemein
ATTACH;FMTTYPE=image/jpeg:https://gemeinde-kolkwitz.de/wp-content/uploads/2021/08/ihp16438.jpg
END:VEVENT
END:VCALENDAR