BEGIN:VCALENDAR
VERSION:2.0
PRODID:-//Gemeinde Kolkwitz - ECPv5.16.1.1//NONSGML v1.0//EN
CALSCALE:GREGORIAN
METHOD:PUBLISH
X-WR-CALNAME:Gemeinde Kolkwitz
X-ORIGINAL-URL:https://gemeinde-kolkwitz.de
X-WR-CALDESC:Veranstaltungen für Gemeinde Kolkwitz
BEGIN:VTIMEZONE
TZID:Europe/Berlin
BEGIN:DAYLIGHT
TZOFFSETFROM:+0100
TZOFFSETTO:+0200
TZNAME:CEST
DTSTART:20230326T010000
END:DAYLIGHT
BEGIN:STANDARD
TZOFFSETFROM:+0200
TZOFFSETTO:+0100
TZNAME:CET
DTSTART:20231029T010000
END:STANDARD
END:VTIMEZONE
BEGIN:VEVENT
DTSTART;TZID=Europe/Berlin:20230219T140000
DTEND;TZID=Europe/Berlin:20230219T140000
DTSTAMP:20260420T120936
CREATED:20230117T105842Z
LAST-MODIFIED:20230117T142216Z
UID:17748-1676815200-1676815200@gemeinde-kolkwitz.de
SUMMARY:Männerfastnacht in Limberg
DESCRIPTION:Sonntag 14.00 Uhr: Trachtenumzug\, anschließend Tanzabend in der Gaststätte* *geschlossene Veranstaltungen \n  \nAm 05.02.2023 um 10.30 Uhr findet eine Versammlung in der Gaststätte statt. Dort teilen wir\nnähere Informationen zum geänderten Ablauf mit. Neben der Anmeldung (inkl.\nTischreservierung und Verkauf der Essenmarken) kassieren wir auch das Bildergeld ein. \nWir freuen uns über jede Teilnahme! \nOrganisationskomitee Männerfastnacht
URL:https://gemeinde-kolkwitz.de/event/maennerfastnacht-in-eichow/
CATEGORIES:Allgemein
ATTACH;FMTTYPE=image/png:https://gemeinde-kolkwitz.de/wp-content/uploads/2021/10/limberg.gemeindekolkwitz.png
END:VEVENT
END:VCALENDAR