BEGIN:VCALENDAR
VERSION:2.0
PRODID:-//Gemeinde Kolkwitz - ECPv5.16.1.1//NONSGML v1.0//EN
CALSCALE:GREGORIAN
METHOD:PUBLISH
X-WR-CALNAME:Gemeinde Kolkwitz
X-ORIGINAL-URL:https://gemeinde-kolkwitz.de
X-WR-CALDESC:Veranstaltungen für Gemeinde Kolkwitz
BEGIN:VTIMEZONE
TZID:Europe/Berlin
BEGIN:DAYLIGHT
TZOFFSETFROM:+0100
TZOFFSETTO:+0200
TZNAME:CEST
DTSTART:20230326T010000
END:DAYLIGHT
BEGIN:STANDARD
TZOFFSETFROM:+0200
TZOFFSETTO:+0100
TZNAME:CET
DTSTART:20231029T010000
END:STANDARD
END:VTIMEZONE
BEGIN:VEVENT
DTSTART;TZID=Europe/Berlin:20231003T000000
DTEND;TZID=Europe/Berlin:20231003T000000
DTSTAMP:20260424T154723
CREATED:20230828T122215Z
LAST-MODIFIED:20230913T121816Z
UID:19702-1696291200-1696291200@gemeinde-kolkwitz.de
SUMMARY:Oktoberfest 2023 Tag 3: Familienfest
DESCRIPTION:
URL:https://gemeinde-kolkwitz.de/event/oktoberfest-2023-tag-3-familienfest/
CATEGORIES:Allgemein
ATTACH;FMTTYPE=image/jpeg:https://gemeinde-kolkwitz.de/wp-content/uploads/2023/08/oktoberfest-23-ab-3.-seite.jpg
END:VEVENT
END:VCALENDAR