BEGIN:VCALENDAR
VERSION:2.0
PRODID:-//Gemeinde Kolkwitz - ECPv5.16.1.1//NONSGML v1.0//EN
CALSCALE:GREGORIAN
METHOD:PUBLISH
X-WR-CALNAME:Gemeinde Kolkwitz
X-ORIGINAL-URL:https://gemeinde-kolkwitz.de
X-WR-CALDESC:Veranstaltungen für Gemeinde Kolkwitz
BEGIN:VTIMEZONE
TZID:Europe/Berlin
BEGIN:DAYLIGHT
TZOFFSETFROM:+0100
TZOFFSETTO:+0200
TZNAME:CEST
DTSTART:20220327T010000
END:DAYLIGHT
BEGIN:STANDARD
TZOFFSETFROM:+0200
TZOFFSETTO:+0100
TZNAME:CET
DTSTART:20221030T010000
END:STANDARD
END:VTIMEZONE
BEGIN:VEVENT
DTSTART;TZID=Europe/Berlin:20220309T190000
DTEND;TZID=Europe/Berlin:20220309T190000
DTSTAMP:20260424T170727
CREATED:20220223T120611Z
LAST-MODIFIED:20220223T120611Z
UID:14977-1646852400-1646852400@gemeinde-kolkwitz.de
SUMMARY:Online-Informationsabend zur Errichtung des Hausanschlusses Glasfaser
DESCRIPTION:Seit der aktiven Markterkundung der Deutschen Glasfaser in der Gemeinde Kolkwitz sind Monate vergangen. In der Zwischenzeit\, seit der Bekanntmachung zum bestätigten Ausbau\, wurden die Leitungstrassen geplant und genehmigt. Mittlerweile gelingt der Deutschen Glasfaser die Erschließung unserer Kommune mit einer Hauptleitung über Vetschau von  Lübbenau aus kommend. Seitens der Deutschen Glasfaser liegt der Verwaltung nun ein offizieller Baustart vor. Geplant ist der Beginn der Arbeiten im Ortsteil Eichow in der 10. Kalenderwoche. Von dort aus werden sukzessive Ortsteil für Ortsteil genehmigt und erschlossen. Vorab wird es mit allen Beteiligten einen öffentlichen Spatenstich am 07.03.2022 um 10:30 Uhr vor der Grundschule im Ortsteil Krieschow geben. Selbst während der Bauausführung besteht die Möglichkeit für die bisher unentschlossen\nen Anwohner im Ausbaugebiet sich für einen kostenfreien Glasfaserhausanschluss zu entscheiden. Dazu wird die Deutsche Glasfaser nochmals auf alle Haushalte im Ausbaugebiet zukommen. Hierzu möchte die Gemeinde Kolkwitz einen entscheidendes Vorurteil ausräumen: \nIn der Markerkundung wurde gegenüber der Verwaltung das Argument gegen einen Hausanschluss angebracht\, dass die Tiefbauleistung für die erforderliche Hausanschlussleitung ausschließlich bis 25m von der öffentlichen Straße bis in das Grundstück hinein kostenfrei ist. Dem ist nicht so! Sämtliche Tiefbauleistungen von der öffentlichen Straße bis in das Gebäude hinein sind kostenfrei. Mit zusätzlichen K \nosten ist ausschließlich bei einer Verkabelung im Gebäude\, die länger als 25m sind\, zu rechnen. Diesen Vorwand möchte die Verwaltung gerne klar stellen. \nZudem wird es für alle eine erneute Online-Veranstaltung „Bau-Infoabend“ der Deutschen Glasfaser geben\, in der alle Schritte von der Verlegung der Hauptleitung bis zur Errichtung des jeweiligen Hausanschlusses erläutert wird. Dazu möchten wir alle Interessierten Bürger einladen: \nTermin: 09.03.2022 um 19:00 Uhr \nLink:      1. Über PC/Laptop: deutsche-glasfaser.de/kolkwitz-phase-1 \n\nÜber mobile Endgeräte (Smartphone/Tablet): Mit der kostenlosen „ZOOM Cloud Meetings” App. Die Meeting-ID (Raumnummer) für Ihre Teilnahme lautet: 91829719483\n\nQR-Code:
URL:https://gemeinde-kolkwitz.de/event/online-informationsabend-zur-errichtung-des-hausanschlusses-glasfaser/
CATEGORIES:Allgemein
ATTACH;FMTTYPE=image/jpeg:https://gemeinde-kolkwitz.de/wp-content/uploads/2021/05/deutscheglasfaser_2018-03-14_fdw_8256.jpg
END:VEVENT
END:VCALENDAR