BEGIN:VCALENDAR
VERSION:2.0
PRODID:-//Gemeinde Kolkwitz - ECPv5.16.1.1//NONSGML v1.0//EN
CALSCALE:GREGORIAN
METHOD:PUBLISH
X-WR-CALNAME:Gemeinde Kolkwitz
X-ORIGINAL-URL:https://gemeinde-kolkwitz.de
X-WR-CALDESC:Veranstaltungen für Gemeinde Kolkwitz
BEGIN:VTIMEZONE
TZID:Europe/Berlin
BEGIN:DAYLIGHT
TZOFFSETFROM:+0100
TZOFFSETTO:+0200
TZNAME:CEST
DTSTART:20200329T010000
END:DAYLIGHT
BEGIN:STANDARD
TZOFFSETFROM:+0200
TZOFFSETTO:+0100
TZNAME:CET
DTSTART:20201025T010000
END:STANDARD
END:VTIMEZONE
BEGIN:VEVENT
DTSTART;TZID=Europe/Berlin:20200322T100000
DTEND;TZID=Europe/Berlin:20200322T120000
DTSTAMP:20260420T103909
CREATED:20200214T085220Z
LAST-MODIFIED:20200316T144856Z
UID:6406-1584871200-1584878400@gemeinde-kolkwitz.de
SUMMARY:Radfahrer starten mit Bowling in die Saison (entfällt wegen Corona)
DESCRIPTION:Der Kolkwitzer Sportverein 1896 e. V. Abteilung Radwandern\, informiert: \nDie Kolkwitzer Radwanderfreunde suchen vor Saisonbeginn ihren besten Bowler. Auf die Radlersaison 2020 wollen wir uns am \nSonntag\, den 22. März 2020 von 10.00 Uhr bis 12.00 Uhr im Bowlingcenter Kolkwitz\, Karl-Liebknecht-Straße 10 \nmit der rollenden Kugel einstimmen. \nNach dem Bowling wird ein kurzer Ausblick auf die Saison 2020 gegeben. Außerdem besteht die Möglichkeit zum Mittagessen. Selbstverständlich sind dazu Radwander­freunde sowie Angehörige\, die nicht mitbowlen wollen\, willkommen. Die Kosten für Getränke und Speisen trägt jeder selbst. \nWer dabei sein möchte meldet sich bitte bis zum 16. März 2020 \nbei       Peter Schulze         Telefon:         28 57 1 oder \nBärbel Jentsch        Telefon:         28 79 53. \nFür den Versicherungsschutz ist jeder Teilnehmer\, außer Mitglieder des Sportvereins\, selbst verantwortlich. \nUnser Jahresplan erscheint im Amtsblatt März mit wieder sehr abwechslungsreichen und interessanten Touren. \n  \nInternet www.kolkwitzersv.de \n 
URL:https://gemeinde-kolkwitz.de/event/radfahrer-starten-mit-bowling-in-die-saison/
CATEGORIES:Allgemein
ATTACH;FMTTYPE=image/jpeg:https://gemeinde-kolkwitz.de/wp-content/uploads/2020/02/Kolkwitzer-SV.jpg
END:VEVENT
END:VCALENDAR