BEGIN:VCALENDAR
VERSION:2.0
PRODID:-//Gemeinde Kolkwitz - ECPv5.16.1.1//NONSGML v1.0//EN
CALSCALE:GREGORIAN
METHOD:PUBLISH
X-WR-CALNAME:Gemeinde Kolkwitz
X-ORIGINAL-URL:https://gemeinde-kolkwitz.de
X-WR-CALDESC:Veranstaltungen für Gemeinde Kolkwitz
BEGIN:VTIMEZONE
TZID:Europe/Berlin
BEGIN:DAYLIGHT
TZOFFSETFROM:+0100
TZOFFSETTO:+0200
TZNAME:CEST
DTSTART:20220327T010000
END:DAYLIGHT
BEGIN:STANDARD
TZOFFSETFROM:+0200
TZOFFSETTO:+0100
TZNAME:CET
DTSTART:20221030T010000
END:STANDARD
END:VTIMEZONE
BEGIN:VEVENT
DTSTART;TZID=Europe/Berlin:20221107T140000
DTEND;TZID=Europe/Berlin:20221107T140000
DTSTAMP:20260422T013456
CREATED:20220922T143643Z
LAST-MODIFIED:20221108T144718Z
UID:17053-1667829600-1667829600@gemeinde-kolkwitz.de
SUMMARY:Revierpolizist Axel Voigt klärt zu Betrugs-Fallen auf
DESCRIPTION:Im November Polizeivortrag / Präventionskurs für Senioren in Kolkwitz und Gulben \n Liebe Senioren/innen wir möchten Ihnen einen \nPräventions-Kurs von dem Polizeirevier Kolkwitz mit Revierpolizist Herrn Axel Voigt anbieten. \nThema: „Vorsicht Falle“ \n  \nTermin für Kolkwitz:   07.11.2022 um 14 Uhr  \nOrt:                                 Familien- und Nachbarschaftstreff \nAm Klinikum 30 \n03099 Kolkwitz \n  \nDer Kurs ist kostenfrei. \nTelefonische Anmeldung und Rückfragen unter: \n0152 02421731 bei Frau Hassatzky vom \nFamilien- und Nachbarschaftstreff der Stiftung SPI in Kolkwitz. \nWir wünschen Ihnen einen informativen Nachmittag und \n„Achten Sie auf Ihr Handgepäck“ \nIhr Ortsvorsteher Marcel Kascheike \n 
URL:https://gemeinde-kolkwitz.de/event/revierpolizist-axel-vogel-klaert-zu-betrugs-fallen-auf/
CATEGORIES:Allgemein
ATTACH;FMTTYPE=image/jpeg:https://gemeinde-kolkwitz.de/wp-content/uploads/2022/09/neue-revierpolitzisten.jpg
END:VEVENT
END:VCALENDAR