BEGIN:VCALENDAR
VERSION:2.0
PRODID:-//Gemeinde Kolkwitz - ECPv5.16.1.1//NONSGML v1.0//EN
CALSCALE:GREGORIAN
METHOD:PUBLISH
X-WR-CALNAME:Gemeinde Kolkwitz
X-ORIGINAL-URL:https://gemeinde-kolkwitz.de
X-WR-CALDESC:Veranstaltungen für Gemeinde Kolkwitz
BEGIN:VTIMEZONE
TZID:Europe/Berlin
BEGIN:DAYLIGHT
TZOFFSETFROM:+0100
TZOFFSETTO:+0200
TZNAME:CEST
DTSTART:20210328T010000
END:DAYLIGHT
BEGIN:STANDARD
TZOFFSETFROM:+0200
TZOFFSETTO:+0100
TZNAME:CET
DTSTART:20211031T010000
END:STANDARD
END:VTIMEZONE
BEGIN:VEVENT
DTSTART;TZID=Europe/Berlin:20211202T150000
DTEND;TZID=Europe/Berlin:20211202T150000
DTSTAMP:20260422T122311
CREATED:20211021T143531Z
LAST-MODIFIED:20211122T141856Z
UID:13443-1638457200-1638457200@gemeinde-kolkwitz.de
SUMMARY:Abgesagt: Seniorenweihnachtsfeier in Eichow
DESCRIPTION:Diese Veranstaltung entfällt aufgrund der aktuellen Pandemielage. \nLiebe Seniorinnen und Senioren in Eichow\, \nzu unserer alljährlich stattfindenden \nWeihnachtsfeier \nladen wir Sie recht herzlich ein: \nam 02.12.2021 um 15:00 Uhr \nDie Weihnachtsfeier findet in diesem Jahr endlich wieder\nin unserer Gaststätte „Casa Monello“ in Eichow statt. \nEs erwarten Sie Kaffee und Kuchen\, ein Weihnachtsprogramm\nund ein leckeres Abendessen.\nDa viele fleißige Helfer und Sponsoren die Feier ermöglichen\,\nbitten wir um rege Teilnahme. \nBei der Veranstaltung gelten die 3G-Corona-Regeln\, bitte das Impfzertifikat\nmitbringen. Bei Bedarf steht ein kostenloser Test am Eingang zur Verfügung. \nUm die Veranstaltung besser planen zu können\, bitten wir um \ntelefonische Anmeldung unter: 0172/3772377 \nAnsprechpartner: Jacqueline Franzke\, Vetschauer Str. 5b \nOrtsbeirat Eichow\, Gemeinde Kolkwitz\,\nTraditionsverein Eichow e.V.\, Jugendclub Eichow
URL:https://gemeinde-kolkwitz.de/event/seniorenweihnachtsfeier-in-eichow/
CATEGORIES:Allgemein
ATTACH;FMTTYPE=image/png:https://gemeinde-kolkwitz.de/wp-content/uploads/2021/10/eichow.gemeindekolkwitz.png
END:VEVENT
END:VCALENDAR