BEGIN:VCALENDAR
VERSION:2.0
PRODID:-//Gemeinde Kolkwitz - ECPv5.16.1.1//NONSGML v1.0//EN
CALSCALE:GREGORIAN
METHOD:PUBLISH
X-WR-CALNAME:Gemeinde Kolkwitz
X-ORIGINAL-URL:https://gemeinde-kolkwitz.de
X-WR-CALDESC:Veranstaltungen für Gemeinde Kolkwitz
BEGIN:VTIMEZONE
TZID:Europe/Berlin
BEGIN:DAYLIGHT
TZOFFSETFROM:+0100
TZOFFSETTO:+0200
TZNAME:CEST
DTSTART:20230326T010000
END:DAYLIGHT
BEGIN:STANDARD
TZOFFSETFROM:+0200
TZOFFSETTO:+0100
TZNAME:CET
DTSTART:20231029T010000
END:STANDARD
END:VTIMEZONE
BEGIN:VEVENT
DTSTART;TZID=Europe/Berlin:20231208T143000
DTEND;TZID=Europe/Berlin:20231208T143000
DTSTAMP:20260420T121415
CREATED:20231116T151219Z
LAST-MODIFIED:20231116T152012Z
UID:20646-1702045800-1702045800@gemeinde-kolkwitz.de
SUMMARY:Seniorenweihnachtsfeier in Kunersdorf
DESCRIPTION:
URL:https://gemeinde-kolkwitz.de/event/seniorenweihnachtsfeier-in-kunersdorf-2/
CATEGORIES:Allgemein
ATTACH;FMTTYPE=image/jpeg:https://gemeinde-kolkwitz.de/wp-content/uploads/2023/11/seniorenweihnachtsfeier-e1700147495316.jpg
END:VEVENT
END:VCALENDAR