BEGIN:VCALENDAR
VERSION:2.0
PRODID:-//Gemeinde Kolkwitz - ECPv5.16.1.1//NONSGML v1.0//EN
CALSCALE:GREGORIAN
METHOD:PUBLISH
X-WR-CALNAME:Gemeinde Kolkwitz
X-ORIGINAL-URL:https://gemeinde-kolkwitz.de
X-WR-CALDESC:Veranstaltungen für Gemeinde Kolkwitz
BEGIN:VTIMEZONE
TZID:Europe/Berlin
BEGIN:DAYLIGHT
TZOFFSETFROM:+0100
TZOFFSETTO:+0200
TZNAME:CEST
DTSTART:20220327T010000
END:DAYLIGHT
BEGIN:STANDARD
TZOFFSETFROM:+0200
TZOFFSETTO:+0100
TZNAME:CET
DTSTART:20221030T010000
END:STANDARD
END:VTIMEZONE
BEGIN:VEVENT
DTSTART;TZID=Europe/Berlin:20220430T180000
DTEND;TZID=Europe/Berlin:20220430T180000
DTSTAMP:20260420T133242
CREATED:20220427T084359Z
LAST-MODIFIED:20220427T121118Z
UID:15460-1651341600-1651341600@gemeinde-kolkwitz.de
SUMMARY:Tanz in den Mai in Papitz
DESCRIPTION:Lange konnten wir alle unsere Trachten nicht ausführen\, dies soll aber jetzt vorbei sein!! \nDaher der Aufruf an alle Papitzer\, wer seine Festtagstracht wieder einmal aus dem Schrank holen möchte\, kann dies am 30.04.2022 tun. \nEs ist ein Umzug durchs Dorf mit anschließendem Tanz in den Mai in Trachten geplant. \nTreffpunkt der Trachtenpaare: 15:00 Uhr auf der Dorfaue\, anschließend der  \nUmzug durch Dorf \nAb 18:00 Uhr:                                Tanz in den Mai unterm Maibaum mit \nBlaskapelle und DJ Stiller \nDer Traditionsverein Papitz lädt alle Interessierten recht herzlich dazu ein. Für Getränke und kleine Speisen ist gesorgt
URL:https://gemeinde-kolkwitz.de/event/tanz-in-den-mai-in-papitz/
CATEGORIES:Allgemein
ATTACH;FMTTYPE=image/jpeg:https://gemeinde-kolkwitz.de/wp-content/uploads/2021/01/img_6626.jpg
END:VEVENT
END:VCALENDAR