BEGIN:VCALENDAR
VERSION:2.0
PRODID:-//Gemeinde Kolkwitz - ECPv5.16.1.1//NONSGML v1.0//EN
CALSCALE:GREGORIAN
METHOD:PUBLISH
X-WR-CALNAME:Gemeinde Kolkwitz
X-ORIGINAL-URL:https://gemeinde-kolkwitz.de
X-WR-CALDESC:Veranstaltungen für Gemeinde Kolkwitz
BEGIN:VTIMEZONE
TZID:Europe/Berlin
BEGIN:DAYLIGHT
TZOFFSETFROM:+0100
TZOFFSETTO:+0200
TZNAME:CEST
DTSTART:20220327T010000
END:DAYLIGHT
BEGIN:STANDARD
TZOFFSETFROM:+0200
TZOFFSETTO:+0100
TZNAME:CET
DTSTART:20221030T010000
END:STANDARD
END:VTIMEZONE
BEGIN:VEVENT
DTSTART;TZID=Europe/Berlin:20221224T180000
DTEND;TZID=Europe/Berlin:20221224T180000
DTSTAMP:20260422T103130
CREATED:20221118T094659Z
LAST-MODIFIED:20221118T094659Z
UID:17437-1671904800-1671904800@gemeinde-kolkwitz.de
SUMMARY:Turmblasen in Limberg
DESCRIPTION:ENDLICH WIEDER! \nTURMBLASEN IN LIMBERG \n24.12.2022 von 18.00-18.30 Uhr\nam Dorfgemeinschaftshaus in Limberg\nLindenmusikanten e.V.
URL:https://gemeinde-kolkwitz.de/event/turmblasen-in-limberg/
CATEGORIES:Allgemein
ATTACH;FMTTYPE=image/png:https://gemeinde-kolkwitz.de/wp-content/uploads/2021/10/limberg.gemeindekolkwitz.png
END:VEVENT
END:VCALENDAR