BEGIN:VCALENDAR
VERSION:2.0
PRODID:-//Gemeinde Kolkwitz - ECPv5.16.1.1//NONSGML v1.0//EN
CALSCALE:GREGORIAN
METHOD:PUBLISH
X-WR-CALNAME:Gemeinde Kolkwitz
X-ORIGINAL-URL:https://gemeinde-kolkwitz.de
X-WR-CALDESC:Veranstaltungen für Gemeinde Kolkwitz
BEGIN:VTIMEZONE
TZID:Europe/Berlin
BEGIN:DAYLIGHT
TZOFFSETFROM:+0100
TZOFFSETTO:+0200
TZNAME:CEST
DTSTART:20250330T010000
END:DAYLIGHT
BEGIN:STANDARD
TZOFFSETFROM:+0200
TZOFFSETTO:+0100
TZNAME:CET
DTSTART:20251026T010000
END:STANDARD
END:VTIMEZONE
BEGIN:VEVENT
DTSTART;TZID=Europe/Berlin:20251214T170000
DTEND;TZID=Europe/Berlin:20251214T170000
DTSTAMP:20260420T103803
CREATED:20251111T084036Z
LAST-MODIFIED:20251111T084036Z
UID:26754-1765731600-1765731600@gemeinde-kolkwitz.de
SUMMARY:Weihnachtskonzert des Volkschores Kolkwitz e. V.
DESCRIPTION:am 14. Dezember 2025\, um 17 Uhr\nin der evangelischen Kirche in Kolkwitz\n\n\n\n\nWir freuen uns\, dass wir Sie auch in diesem Jahr wieder zu unserem traditionellen Weihnachtskonzert am dritten Advent in die evangelische Kirche Kolkwitz einladen dürfen. Unter der Leitung von Linda Lehmann\, einer Studentin der Musikpädagogik an der BTU Cottbus\, möchten wir Sie mit schönen traditionellen Weihnachtsliedern erfreuen. Auch das eine oder andere neue Lied oder alte Lieder in einer neuen Fassung werden zu hören sein. Außerdem ist in diesem Jahr „Frauen-Power“ angesagt. Neben Linda bereichern drei weitere junge Frauen unser weihnachtliches Programm. Sarah Smith an Orgel und Akkordeon hat Sie schon in den vergangenen Jahren begeistert. Neu dabei sind in diesem Jahr Claudia Fliegel als Sängerin und Konstanze Schröder mit der Violine. \nDer Eintritt ist frei. Über eine kleine Spende würden wir uns sehr freuen. \nDie Sängerinnen und Sänger des Volkschores Kolkwitz e. V.
URL:https://gemeinde-kolkwitz.de/event/weihnachtskonzert-des-volkschores-kolkwitz-e-v/
CATEGORIES:Allgemein
ATTACH;FMTTYPE=image/jpeg:https://gemeinde-kolkwitz.de/wp-content/uploads/2025/11/vck_weihnachtskonzert_2024.jpg
END:VEVENT
END:VCALENDAR