BEGIN:VCALENDAR
VERSION:2.0
PRODID:-//Gemeinde Kolkwitz - ECPv5.16.1.1//NONSGML v1.0//EN
CALSCALE:GREGORIAN
METHOD:PUBLISH
X-WR-CALNAME:Gemeinde Kolkwitz
X-ORIGINAL-URL:https://gemeinde-kolkwitz.de
X-WR-CALDESC:Veranstaltungen für Gemeinde Kolkwitz
BEGIN:VTIMEZONE
TZID:Europe/Berlin
BEGIN:DAYLIGHT
TZOFFSETFROM:+0100
TZOFFSETTO:+0200
TZNAME:CEST
DTSTART:20190331T010000
END:DAYLIGHT
BEGIN:STANDARD
TZOFFSETFROM:+0200
TZOFFSETTO:+0100
TZNAME:CET
DTSTART:20191027T010000
END:STANDARD
END:VTIMEZONE
BEGIN:VEVENT
DTSTART;TZID=Europe/Berlin:20191215T170000
DTEND;TZID=Europe/Berlin:20191215T170000
DTSTAMP:20260420T103602
CREATED:20191203T130331Z
LAST-MODIFIED:20191203T150642Z
UID:4145-1576429200-1576429200@gemeinde-kolkwitz.de
SUMMARY:Weihnachtskonzert des Volkschores
DESCRIPTION:Weihnachten steht wieder vor der Tür! \nAuch in diesem Jahr möchte Sie der Volkschor Kolkwitz e. V. am 3. Advent mit weihnachtlichen Liedern auf die Weihnachtszeit einstimmen. Wir laden Sie recht herzlich zu unserem Weihnachtskonzert 2019 ein!\nWeihnachtskonzert des Volkschores Kolkwitz e. V.\nWann: 15. Dezember 2019\, um 17.00 Uhr\nWo: Evangelische Kirche Kolkwitz\nUnterstützt werden wir\, nun schon traditionell\, von Sarah Smith an Orgel und Akkordeon sowie dem Trompetenduo Dietmar und Michael. Der Eintritt kostet vier Euro.\nUnseren treuen Konzertbesuchern und allen Lesern wünschen wir außerdem eine schöne Weihnachtszeit und ein gutes Jahr 2020! \nDie Sängerinnen und Sänger des Volkschores Kolkwitz e. V
URL:https://gemeinde-kolkwitz.de/event/weihnachtskonzert-des-volkschores/
CATEGORIES:Allgemein
ATTACH;FMTTYPE=image/jpeg:https://gemeinde-kolkwitz.de/wp-content/uploads/2019/12/IMG_9188-scaled.jpg
END:VEVENT
END:VCALENDAR