BEGIN:VCALENDAR
VERSION:2.0
PRODID:-//Gemeinde Kolkwitz - ECPv5.16.1.1//NONSGML v1.0//EN
CALSCALE:GREGORIAN
METHOD:PUBLISH
X-WR-CALNAME:Gemeinde Kolkwitz
X-ORIGINAL-URL:https://gemeinde-kolkwitz.de
X-WR-CALDESC:Veranstaltungen für Gemeinde Kolkwitz
BEGIN:VTIMEZONE
TZID:Europe/Berlin
BEGIN:DAYLIGHT
TZOFFSETFROM:+0100
TZOFFSETTO:+0200
TZNAME:CEST
DTSTART:20250330T010000
END:DAYLIGHT
BEGIN:STANDARD
TZOFFSETFROM:+0200
TZOFFSETTO:+0100
TZNAME:CET
DTSTART:20251026T010000
END:STANDARD
END:VTIMEZONE
BEGIN:VEVENT
DTSTART;TZID=Europe/Berlin:20250214T170000
DTEND;TZID=Europe/Berlin:20250214T170000
DTSTAMP:20260420T120936
CREATED:20250113T102443Z
LAST-MODIFIED:20250113T102443Z
UID:24232-1739552400-1739552400@gemeinde-kolkwitz.de
SUMMARY:Zampern Ausbauten
DESCRIPTION:14.02.2025 Zampern Ausbauten\n17.00 Uhr Treff vor der Gaststätte „Zum Bergchen“ mit anschließendem Einsingen
URL:https://gemeinde-kolkwitz.de/event/zampern-ausbauten/
CATEGORIES:Allgemein
ATTACH;FMTTYPE=image/jpeg:https://gemeinde-kolkwitz.de/wp-content/uploads/2024/04/2024-01-21_kinderzampern-babow-10.jpg
END:VEVENT
END:VCALENDAR